 BEGIN:VCALENDAR
VERSION:2.0
PRODID:-//eventon.com NONSGML v1.0//EN
CALSCALE:GREGORIAN
METHOD:PUBLISH
BEGIN:VEVENT
UID:69e730847bcff
DTSTAMP:20260421T080836Z
DTSTART:20260120T171500Z
DTEND:20260120T190000Z
LOCATION:
SUMMARY:Ashtanga Steg 3
DESCRIPTION:Ashtangayoga Steg 3 18:15 – 20:00 Ulrica\nhttps://usyoga.se/e
 vents/ashtanga-steg-3-2/
URL:https://usyoga.se/events/ashtanga-steg-3-2/
END:VEVENT
END:VCALENDAR